BEGIN:VCALENDAR
VERSION:2.0
PRODID:-//Upledger Institute Finland - ECPv6.15.20//NONSGML v1.0//EN
CALSCALE:GREGORIAN
METHOD:PUBLISH
X-WR-CALNAME:Upledger Institute Finland
X-ORIGINAL-URL:https://upledger.fi
X-WR-CALDESC:Tapahtumat Upledger Institute Finland
REFRESH-INTERVAL;VALUE=DURATION:PT1H
X-Robots-Tag:noindex
X-PUBLISHED-TTL:PT1H
BEGIN:VTIMEZONE
TZID:UTC
BEGIN:STANDARD
TZOFFSETFROM:+0000
TZOFFSETTO:+0000
TZNAME:UTC
DTSTART:20240101T000000
END:STANDARD
END:VTIMEZONE
BEGIN:VEVENT
DTSTART;VALUE=DATE:20251113
DTEND;VALUE=DATE:20251117
DTSTAMP:20260425T225332
CREATED:20250404T111748Z
LAST-MODIFIED:20250914T051713Z
UID:997-1762992000-1763337599@upledger.fi
SUMMARY:TBS2 The Brains Speaks 2\, erikoiskurssi
DESCRIPTION:Neljän päivän pituisella TBS2-kurssilla opit syvempiä taitoja käsitellä kalloa ja aivojen eri osia sekä hoitaa asiakkaita\, joilla on esimerkiksi traumaattinen aivovamma\, aivotärähdys tai kroonistunut stressitila. \nTBS2-kurssin osaamistavoitteet: \n– Syvennät työskentelytaitojasi ja ymmärrystäsi sellaisten asiakkaiden kanssa\, joilla on traumaattinen aivovamma ja aivotärähdys.– Opit uusimmasta tutkimuksesta ja tiedoista\, jotka koskevat emotionaalista traumaa\, PTSD:tä ja jatkuvaa stressiä ja kuinka ne vaikuttavat aivojen anatomiaan ja fysiologiaan\, sekä kuinka auttaa näitä ongelmia kärsiviä ihmisiä CST:n avulla.– Opit terveiden aivojen kehityksen edellytyksistä varhaislapsuudessa ja siitä\, mitä tapahtuu\, kun nämä edellytykset eivät täyty\, sekä kuinka CST ja terapeuttiset kuvat ja  vuoropuhelu voivat auttaa ihmisiä\, joilla on erilaisia hermostollisia tai aivoperäisiä haasteita.– Osaat hoitaa asiakkaita\, joilla on hermostollisia tai aivoperäisiä haasteita.– Opit autonomisen hermoston toimintaa polyvagaalisesta näkökulmasta ja siitä\, kuinka tämä autonominen toimintakyky toimii. Ymmärrät miten voit auttaa asiakkaitasi parantamaan aivojaan stressistä ja traumoista.– Opit auttamaan ihmisiä\, joilla on multippeliskleroosi\, Parkinsonin tauti\, Alzheimerin tauti tai dementia. \nKurssin toteutuksen tiedot: \nAjankohta: 13.-16.11.2025 \nOpettaja: Thomas Rasmussen (DK) \nPaikka: Shakta Joogakoulu\, Helsinki \nHinta:990 € + alv 25\,5% (1242\,45 €)Kurssihinta sisältää opetuksen\, opinto-oppaan sekä kahvin ja teen. Lounas on omakustanteinen. \nOpetuskieli: englanti\, kurssi tulkataan suomeksi ja opetusavustajat puhuvat suomea \nKoulutuksen järjestää Upledger & Barral Institute Finland. Koulutukseen liittyvissä sisällöllisissä ja käytännönjärjestelyihin liittyvissä asioissa ota yhteyttä info@upledger.fi. \nPohjavaatimus: TBS1-kurssi \n  \nOSTA KOULUTUS FIMT-verkkokaupasta https://www.fimt.fi/tuote/tbs2/ \n\n  \nPrerequisite: TBS1 \nTBS2 builds upon the skills of TBS1. Whereas TBS1 is a brain overview course\, TBS2 utilizes the skills introduced and developed in TBS1 and uses them to explore and work with specific dysfunctions and patterns encountered frequently in clinical practice. \nCourse Highlights:– Learn to work more effectively with clients with Traumatic Brain Injuries and concussive injuries.– Learn more specific techniques for working with people with seizure disorders.– Utilize information from the latest research and understanding of the autistic brain to better help clients.– Learn about cutting edge research and information regarding emotional trauma\, PTSD and persistent stress\, and how they affect the anatomy and physiology of the brain\, as well as how to assist people with these problems with CST.– Learn about the conditions for healthy brain development in early childhood and what happens when these conditions are not met\, as well as how CST and Therapeutic Imagery and Dialogue may help people experiencing these conditions.– Learn about the Polyvagal aspect of the autonomic nervous system and how this newly discovered autonomic function and help your clients heal their brain from stress and trauma.– Learn to help people with Multiple Sclerosis\, Parkinson’s\, Alzheimer’s and dementia with greater success. \n  \nBuy training from FIMT-webshop https://www.fimt.fi/tuote/tbs2/
URL:https://upledger.fi/koulutus/tbs2-the-brain-speaks-2-erikoiskurssi-2/
LOCATION:Yksityinen: Shakta Joogakoulu\, Työpajankatu 10 A\, Helsinki\, 00580\, Finland
CATEGORIES:Erikoiskurssit
END:VEVENT
END:VCALENDAR