BEGIN:VCALENDAR
VERSION:2.0
PRODID:-//Upledger Institute Finland - ECPv6.15.20//NONSGML v1.0//EN
CALSCALE:GREGORIAN
METHOD:PUBLISH
X-WR-CALNAME:Upledger Institute Finland
X-ORIGINAL-URL:https://upledger.fi
X-WR-CALDESC:Tapahtumat Upledger Institute Finland
REFRESH-INTERVAL;VALUE=DURATION:PT1H
X-Robots-Tag:noindex
X-PUBLISHED-TTL:PT1H
BEGIN:VTIMEZONE
TZID:UTC
BEGIN:STANDARD
TZOFFSETFROM:+0000
TZOFFSETTO:+0000
TZNAME:UTC
DTSTART:20240101T000000
END:STANDARD
END:VTIMEZONE
BEGIN:VEVENT
DTSTART;TZID=UTC:20251213T090000
DTEND;TZID=UTC:20251213T170000
DTSTAMP:20260425T225409
CREATED:20251025T183913Z
LAST-MODIFIED:20251106T210459Z
UID:2024-1765616400-1765645200@upledger.fi
SUMMARY:States of Consciousness\, Perception and Therapeutic Presence -seminaari
DESCRIPTION:Terapeuttinen läsnäolo on kraniosakraaliterapian ydin. Se on hiljainen taito kuunnella\, mukautua ja seurata asiakkaan sisäistä viisautta — kyky\, joka syvenee tietoisuuden laajentuessa. \nTässä kokemuksellisessa seminaarissa tutkimme\, miten erilaiset tietoisuuden tilat vaikuttavat havaintokykyymme ja terapeuttiseen läsnäoloomme hoidon aikana. Ohjatun kehon\, mielen ja käsien harjoittelun avulla opit tunnistamaan ja siirtymään eri tietoisuuden tilojen välillä\, mikä vahvistaa herkkyyttäsi ja tehokkuuttasi kraniosakraaliterapeuttina. \nTämä päivä tarjoaa mahdollisuuden hidastaa tahtia\, tutkia sisäistä hiljaisuutta ja vahvistaa kykyäsi olla yhteydessä — itseesi\, asiakkaaseesi ja teidän välillänne avautuvaan itseparantumisen prosessiin. \nSeminaarissa opimme:\n– Syventämään terapeuttista läsnäoloasi ja havaintotietoisuuttasi.\n– Kokemaan erilaisia tietoisuuden tiloja CST-hoidon aikana.\n– Harjoittelemaan siirtymistä tilasta toiseen itseparantumisprosessin tukemiseksi. \nTule mukaan harjoituksen\, tutkimisen ja läsnäolon päivään — matkalle kohti itseparantumisen syvempiä ulottuvuuksia kraniosakraaliterapian avulla. \nFasilitaattori: Thomas Rasmussen \nAjankohta: Lauantai 13.12.2025\nAika: klo 09.00–17.00\nPaikka: FIMT Koulutuskeskus\, Töyrytie 1\, 33530 Tampere \nHinta: 90 € (+ alv 25\,5%\, yhteensä 112\,95 €)\, seminaarihinta sisältää seminaarimateriaalin ja aamu- ja iltapäiväkahvit ja herkut.\nPohjavaatimus: CS1-kurssi \nOpetuskieli: englanti\, tulkkaus suomeksi \n\nIlmoittautuminen: ostamalla seminaaripaikka FIMT-verkkokaupasta täältä tai ilmoittautumalla info@upledger.fi (laskutusasiakkaat). \n\nViimeinen ilmoittautumispäivä 10.12.2025. \nLämpimästi tervetuloa seminaariin!
URL:https://upledger.fi/koulutus/states-of-consciousness-perception-and-therapeutic-presence-seminaari/
LOCATION:FIMT Koulutuskeskus\, Töyrytie 1-5\, Tampere\, 33530\, Finland
CATEGORIES:Seminaari
END:VEVENT
END:VCALENDAR