BEGIN:VCALENDAR
VERSION:2.0
PRODID:-//Upledger Institute Finland - ECPv6.15.20//NONSGML v1.0//EN
CALSCALE:GREGORIAN
METHOD:PUBLISH
X-ORIGINAL-URL:https://upledger.fi
X-WR-CALDESC:Tapahtumat Upledger Institute Finland
REFRESH-INTERVAL;VALUE=DURATION:PT1H
X-Robots-Tag:noindex
X-PUBLISHED-TTL:PT1H
BEGIN:VTIMEZONE
TZID:UTC
BEGIN:STANDARD
TZOFFSETFROM:+0000
TZOFFSETTO:+0000
TZNAME:UTC
DTSTART:20250101T000000
END:STANDARD
END:VTIMEZONE
BEGIN:VEVENT
DTSTART;TZID=UTC:20260514T090000
DTEND;TZID=UTC:20260517T170000
DTSTAMP:20260426T031232
CREATED:20250525T125738Z
LAST-MODIFIED:20260202T201001Z
UID:1935-1778749200-1779037200@upledger.fi
SUMMARY:SER2 SomatoEmotional Release 2
DESCRIPTION:SER2 on kraniosakraaliterapian perusopinto-ohjelman edistyneen tason kurssi\, jolla opetellaan kuinka terapeuttina voit yhdistää SomatoEmotional Release® -tekniikkaan erilaisia terapeuttisen vuoropuhelun ja mielikuvatyöskentelyn menetelmiä. Tällä kurssilla syvennät SER-tekniikoiden osaamistasi keskittyen erityisesti terapeuttisen vuoropuhelun ja mielikuvatyöskentelyn kehittämiseen osana manuaalista terapiaa. Lisäksi pääset hiomaan taitojasi ilmaisun väylän (Avenue of Expression) vapautustekniikoissa. \nKurssin keskeisenä osaamistavoitteena on ymmärtää ja osata soveltaa kokonaisvaltaista kehomieli-lähestymistapaa asiakkaan hyvinvointia ja edistymistä hidastavien tai estävien ongelmien ja haasteiden ratkaisemisessa. \nSER2-kurssin osaamistavoitteet: \n– Opit psykosynteesin\, Gestalt-terapian ja jungilaisen psykologian historiasta\, keskeisistä käsitteistä ja terapeuttisesta prosessista.\n– Osaat integroida psykosynteesin\, Gestalt-terapian ja jungilaisen psykologian menetelmiä SomatoEmotional Release® -prosessiin sekä terapeuttiseen vuoropuheluun ja mielikuvatyöskentelyyn.\n– Syvennät osaamistasi kurkun ja kovan kitalaen vapautustekniikoissa äänihuulten alueelta.\n– Osaat eri menetelmiä kutsua asiakkaan mielikuvia esiin\, ylläpitää spontaanisti noussutta mielikuvaa ja löytää mielikuvien merkityksiä.\n– Opit taitoja\, jotka mahdollistavat vuoropuhelun potilaan tietoisuuden eri tasojen välillä.\n– Osaat hyödyntää 10-vaiheisen terapeuttisen vuoropuhelun ja mielikuvatyöskentelyn protokollaa hoitotyössäsi.\n– Harjaannutat taitojasi aktiivisen mielikuvatyöskentelyn\, arkkityyppien itsehavainnoinnin parissa sekä käytät terapeuttista vuoropuhelua ja mielikuvatyöskentelyä hoitotilanteessa.\n– Tiedät unityöskentelyn perusteet ja saat lähestymistapoja unityöskentelyyn.\n– Tunnistat kraniosakraalirytmistä merkittävyyden ilmaisimen (SD\, Significance Detector).\n– Ymmärrät CST:n ja SER:n tekniikoiden ja teoreettisen jatkumon.\n– Ymmärrät SER-työskentelyn ja psykologian erot teoriassa ja käytännössä.\n– Omaksut IP:n eli sisäisen parantajan (Inner Physician) roolin SER-työskentelyssä.\n– Osaat hyödyntää työssäsi Upledgerin metodia biologisten prosessien loppuun saattamisesta.\n– Tunnet SER-työskentelyn vasta-aiheet.\n-Ymmärrät sekä terapeutin että asiakkaan itsevastuun merkityksen. \nPohjavaatimus: SER1-kurssi. \n  \nKurssin toteutuksen tiedot: \nAjankohta: 14.-17.5.2026. \nOpettaja: Erin Riley (AU) PT\, CST-D (tutustu Eriniin täällä). \nOpetusavustajat: 1-4kpl \nPaikka: FIMT Finnish Institute of Manual Therapy\, Töyrytie 1-5\, Tampere. \nOpetuskieli: englanti\, kurssi tulkataan suomeksi ja opetusavustajat puhuvat suomea. \nKoulutuksen järjestää Upledger Institute Finland. Koulutukseen liittyvissä sisällöllisissä ja käytännönjärjestelyihin liittyvissä asioissa ota yhteyttä info@upledger.fi. \n\nHinta: 990 € + alv 25\,5% (1242\,45 €) \nKurssihinta sisältää opetuksen\, englanninkielisen opinto-oppaan sekä kahvin ja teen. Lounas on omakustanteinen. \n\nIlmoittaudu koulutukseen:\n1. Ostamalla koulutus FIMT-verkkokaupasta täältä.\n  \n\n2. Ilmoittautumalla info@upledger.fi \nTarjoamme kurssin suoraoston lisäksi myös osamaksuvaihtoehtoja – ota rohkeasti yhteyttä!
URL:https://upledger.fi/koulutus/ser2-somatoemotional-release-2/
LOCATION:FIMT Koulutuskeskus\, Töyrytie 1-5\, Tampere\, 33530\, Finland
CATEGORIES:Perusopinnot
END:VEVENT
BEGIN:VEVENT
DTSTART;TZID=UTC:20260813T090000
DTEND;TZID=UTC:20260816T170000
DTSTAMP:20260426T031232
CREATED:20251203T085000Z
LAST-MODIFIED:20251203T085000Z
UID:2057-1786611600-1786899600@upledger.fi
SUMMARY:CS1 Kraniosakraaliterapia 1. peruskurssi
DESCRIPTION:Tällä kurssilla opit perusteet ja tekniikat John. E Upledgerin kehittämälle kraniosakraaliterapialle (CST). Kurssilla sukellat syvälle keskushermoston ja kehon faskioiden toiminnanarviointiin. \nNeljän päivän pituisella CS1-kurssilla opit monipuolisia palpaatiotaitoja\, faskia- ja pehmytkudosten vapautustekniikoita sekä tiiviin 10-vaiheisen protokollan koko kehon arviointiin ja hoitoon kraniosakraalijärjestelmän kautta. \nKurssilla opittavien CST:n perustekniikoiden lisäksi opit kranio-sakraalijärjestelmän ja kehon kalvojärjestelmän anatomiaa ja fysiologiaa. Kurssiopetuksen lisäksi saat täysin kuvitetun ja kattavan opinto-oppaan käsiteltävän koulutussisällön osalta. \nKurssilla opittavat tekniikat voit ottaa heti kurssin jälkeen käyttöösi! \nCS1-kurssin osaamistavoitteet: \n– Ymmärrät kraniosakraaliterapian tieteelliset perusteet ja periaatteet sekä sen\, miksi CST on avainasemassa lievittämään kipuja ja toimintahäiriöitä niiden juurisyitä purkamalla.\n– Tunnistat hienovaraisen kraniosakraalirytmin ja osaat tulkita rytmin eri tekijöitä tarkkaan arvioidaksesi kehon toimintahäiriöitä ja muutoksia.\n– Opit löytämään fyysisten ongelmien lähteitä työskentelemällä moniulotteisen\, kehon kaikkia rakenteita ympäröivän\, kalvojärjestelmän kanssa.\n– Palpaatiotaitosi hioutuvat ja kehittyvät tarkkuudeltaan niin\, että voit käyttää sitä herkkänä ja intuitiivisena työkaluna.\n– Osaat aivo- ja selkäydinkalvojen rakenteet sekä tekniikat jännitteiden ja rajoitusten vapauttamiseksi niistä. Tämä voi edistää keskushermoston ja kehon muiden osien välistä vuorovaikutusta.\n– Osaat tekniikoita\, joilla voidaan edistää hyvinvointia ja rentoutumista\, kuten energiansuuntaus- ja Still Point -induktiomenetelmät.\n– Opit uusia taitoja auttaaksesi asiakkaita yleisissä vaivoissa\, kuten kroonisessa kivussa\, pää- ja niskavammoissa\, tuki- ja liikuntaelinten ongelmissa\, purentaelinten toimintahäiriöissä (TMJ).\n– Osaat kattavan ja tehokkaan 10 askelman hoito-ohjelman\, jonka voit ottaa heti käyttöön työssäsi tai soveltaa sen osia osana työtäsi. \nPohjavaatimus: \nSuosituksena koulutus terveydenhoitoalalta / manuaalisesta terapiasta\, muussa tapauksessa olethan yhteydessä ennen ilmoittautumista. \n\nKurssin toteutuksen tiedot: \nAjankohta: 13.-16.8.2026 \nOpettaja: Thomas Rasmussen (DK) Ph.D.\, MSC\, CST-D (tutustu Thomakseen täällä). \nOpetusavustajat: 1-4kpl. \nPaikka: FIMT Finnish Institute of Manual Therapy\, Töyrytie 1-5\, Tampere. \nOpetuskieli: englanti\, kurssi tulkataan suomeksi ja opetusavustajat puhuvat suomea. \nKoulutuksen järjestää Upledger & Barral Institute Finland. Koulutukseen liittyvissä sisällöllisissä ja käytännönjärjestelyihin liittyvissä asioissa ota yhteyttä info@upledger.fi. \n\nHinta: \nEarly Bird 740 € + alv 25\,5% (928\,70 €)\, voimassa 31.5.2026 asti.\nNormaali 880 € + alv 25\,5% (1104\,40 €) \nKurssihinta sisältää: opetuksen\, tulkkauksen suomeksi\, englanninkielisen yli 300 sivuisen opinto-oppaan sekä kahvin ja teen. Lounas on omakustanteinen. \n\nKurssin jälkeen: \nCS1-kurssin jälkeen voit jatkaa osaamisen kehittämistä ja syventämistä CS2-kurssilla\, jossa opit lisää vaikuttavia ja monipuolisia tekniikoita ja kehon arviointimenetelmiä sekä kehität palpaatiotaitojasi. CS1-kurssi antaa myös loistavat lähtökohdat Barral Instituutin VM1\, NM1 ja MAA-kursseille osallistumiselle. \n\nIlmoittaudu koulutukseen:\n1. Ostamalla koulutus FIMT-verkkokaupasta täältä.\n2. Ilmoittautumalla info@upledger.fi (laskutus asiakkaat).\nTarjoamme kurssin suoraoston lisäksi myös osamaksuvaihtoehtoja – ota rohkeasti yhteyttä!
URL:https://upledger.fi/koulutus/cs1-kraniosakraaliterapia-1-peruskurssi-2/
LOCATION:FIMT Koulutuskeskus\, Töyrytie 1-5\, Tampere\, 33530\, Finland
CATEGORIES:Perusopinnot
END:VEVENT
BEGIN:VEVENT
DTSTART;VALUE=DATE:20261001
DTEND;VALUE=DATE:20261005
DTSTAMP:20260426T031232
CREATED:20260301T114005Z
LAST-MODIFIED:20260304T150141Z
UID:2188-1790812800-1791158399@upledger.fi
SUMMARY:CS2 Kraniosakraaliterapia 2. peruskurssi
DESCRIPTION:Neljän päivän pituisella CS2-kurssi jatketaan matkaa\, jonka aloitit CS1-kurssilla. CS2-kurssi täydentää Upledgerin kraniosakraaliterapian biomekaanisen peruskoulutuksen tekniikkavalikoiman samalla laajentaen huomattavasti CS1-kurssilla opittua rakenteellista\, energeettistä ja henkilökohtaista työskentelyä. \nCS2-kurssilla opit lisää uusia tapoja kehittyä entistä tietoisemmaksi ammattilaiseksi samalla kun hiot palpaatiotaitojasi ja terapeuttista läsnäoloasi. Kurssilla tehdään paljon käytännön harjoituksia\, annetaan ja vastaanotetaan hoitoja. Keskitymme muun muassa kallonpohjan toimintahäiriöihin\, purentajärjestelmään ja koko kehon arviointimenetelmiin. Kurssilla opit lisäksi erinomaisen tekniikan\, jonka avulla tuetaan kehon kalvojärjestelmää avautumaan ja rentoutumaan alueellisesti. \nCS2-kurssin osaamistavoitteet: \n– Osaat arvioida ja hoitaa kallonpohjan toimintahäiriöitä.\n– Ymmärrät erilaisten jännityskaavioiden vaikutukset koko kehoon.\n– Opit arvioimaan ja hoitamaan haitallisia jännitekaavioita kasvojen luista\, kuten nenäluista\, poskiluista\, yläleukaluusta\, vannasluusta sekä suulaenluista. Ymmärrät\, miten näiden luisten rakenteiden rajoitteet voivat aiheuttaa monia erilaisia ongelmia esimerkiksi kasvojen ja kurkun alueelle\, aivokalvojärjestelmään sekä koko kehoon.\n– Opit tehokkaan kaaretusarviointimenetelmän primääristen jännitekaavioiden (leesioiden) paikantamiseen. Ymmärrät kuinka edistyneet CST-terapeutit käyttävät tätä arviointimenetelmää sen tarkkuuden ja tehokkuuden vuoksi.\n– Opit auttamaan kehoa päästämään irti toimintahäiriöistä faskiaalisista ja energeettisitä jännitekaavioista alueellisen kudosvapautustekniikan avulla. Tämä tekniikka auttaa vapauttamaan jännitekaavioita\, jotka johtuvat usein vanhoista vammoista ja traumoista.\n– Osaat yhdistää kudosvapaututekniikan kraniosakraalirytmin havainnointiin ja saavuttamaan näin tekniikan parhaan hyödyn.\n– Paikannat ja hoidat fasilitoituneita segmenttejä\, jotka ovat yliherkistyneitä selkäytimen alueit\, jotka hoitamattomina voivat aiheuttaa kroonisia ongelmia.\n– Opit perusteet arvioimaan ja hoitamaan faskiaalisia rajoitteita faskialiu’utus-tekniikalla.\n-Yhdistät CS1- ja CS2-kurssien tekniikoita eri kestoisiin hoitotilanteisiin. Opit myös yhdistelemään tekniikoita muihin menetelmiin käyttäen koko kehon arviointia hoidon apunasi. \nLisäksi CS2-kurssilla luennoidaan lasten hoitamisesta kraniosakraaliterapialla\, aivojen eri osista ja niiden vaikutuksesta kraniosakraaliterapiaan sekä käydään läpi johdanto Upledgerin kehittämään SomatoEmotional Release®-menetelmään\, joka syventää CST:n ydinperiaatteita ja jonka opiskelu aloitetaan SER1 3.peruskurssilla. \nKurssin jälkeen: \nCS2-kurssi mahdollistaa osallistumisen muun muassa CST & Trauma -kurssille\, SomatoEmotional Release 1 -kurssille\, BCB Beyond Cranial Base-kurssille ja Touching the Brain -gliasolukurssille. \nCS2-kurssin jälkeen voit osallistua sertifikaattiohjelman CST-T-tekniikkaosaan\, jonka suorittamalla voit käyttää sertifioitu kraniosakraaliterapeutti -nimikettä. \nPohjavaatimus: CS1-kurssi. \n  \nKurssin toteutuksen tiedot: \nAjankohta: 1.-4.10.2026 \nOpettaja: Maggie Gill (UK) MBA\, Cert.Ed\, CST-D (tutustu Maggieen täällä). \nOpetusavustajat: 1-4kpl \nPaikka: Shakta Joogakoulu\, Työpajankatu\, Helsinki. \nOpetuskieli: englanti\, kurssi tulkataan suomeksi ja opetusavustajat puhuvat suomea. \nKoulutuksen järjestää Upledger & Barral Institute Finland. Koulutukseen liittyvissä sisällöllisissä ja käytännönjärjestelyihin liittyvissä asioissa ota yhteyttä info@upledger.fi. \n\nHinta:\nEarly Bird 840 € + alv 25\,5% (1054\,20 €)\, tarjous voimassa 19.7.2026 asti.\nNormaali 960 € + alv 25\,5% (1204\,80 €)\n \nKurssihinta sisältää: opetuksen\, tulkkauksen suomeksi\, englanninkielisen opinto-oppaan sekä kahvin ja teen. Lounas on omakustanteinen. \n\nIlmoittaudu koulutukseen:\n1. Ostamalla koulutus FIMT-verkkokaupasta täältä.\n2. Ilmoittautumalla info@upledger.fi \nTarjoamme kurssin suoraoston lisäksi myös osamaksuvaihtoehtoja – ota rohkeasti yhteyttä!
URL:https://upledger.fi/koulutus/cs2-kraniosakraaliterapia-2-peruskurssi-2/
LOCATION:Yksityinen: Shakta Joogakoulu\, Työpajankatu 10 A\, Helsinki\, 00580\, Finland
CATEGORIES:Perusopinnot
END:VEVENT
BEGIN:VEVENT
DTSTART;TZID=UTC:20261029T090000
DTEND;TZID=UTC:20261101T170000
DTSTAMP:20260426T031232
CREATED:20250531T200108Z
LAST-MODIFIED:20251018T183551Z
UID:1955-1793264400-1793552400@upledger.fi
SUMMARY:CSSTR – CST & The Stress Trauma Response
DESCRIPTION:Neljän päivän pituisessa koulutuksessa perehdyt syvällisesti trauman manuaaliseen käsittelyyn. Tämä erikoiskurssi on suunniteltu syventämään ymmärrystäsi siitä\, miten trauma voi vaikuttaa kehoon ja kuinka taitavan manuaalisen terapian avulla voimme tukea stressistä ja traumasta vapautumista ja paranemista. \nKurssilla keskitymme kehon somaattisiin reaktioihin\, erityisesti siihen\, miten pehmytkudokset voivat varastoida stressiä ja traumakokemuksia\, ja sopeutua traumaattisiin kokemuksiin. Trauma voi juurtua kehon faskiajärjestelmään\, lihaksiin ja muihin sidekudoksiin\, aiheuttaen jännitystä\, rajoitteita ja toimintahäiriöitä. Trauma jakaa keho-mieliyhteyttä erottaen meitä kehollisesta itsestämme – trauma voi jättää arven\, haavan (muistijäljen) kehoon\, hermostoon sekä psyykeeseen. Ajan myötä keho alkaa kompensoida suojellakseen itseään\, mikä voi johtaa krooniseen kipuun\, toimintahäiriöihin tai emotionaalisiin jännitystiloihin. \nKraniosakraaliterapian hellävaraisten ja tarkkojen tekniikoiden avulla terapeutti voi auttaa kehoa vapauttamaan näitä rajoitteita\, auttaen kehoa palauttamaan tasapainon\, keveyden ja kestävän uudistuneen hyvinvoinnin tilan. \nCSSTR-kurssin osaamistavoitteet:\n– Ymmärrät trauman määritelmän ja sen merkityksen kraniosakraaliterapiassa.\n– Osaat tunnistaa traumaan liittyviä oireita ja tyypillisiä käyttäytymisvasteita.\n– Osaat tunnistaa ja erotella yleisimpiä traumatyyppejä\, joita esiintyy kraniosakraaliterapian vastaanotolla.\n– Ymmärrät toleranssi-ikkunan käsitteen ja sen soveltamisen manuaalisessa työskentelyssä.\n– Osaat tunnistaa ja palpoida asiakkaan toleranssi-ikkunan rajoja.\n– Osaat havaita kehon liikkeitä ja reaktioita traumaperäisen prosessin ilmentyminä.\n– Harjaannut työskentelemään turvallisesti asiakkaan sisäisten ja ulkoisten rajojen kanssa.\n– Ymmärrät terapeuttisen työn psykologisen hygienian ja itsesäätelyn merkityksen.\n– Osaat luoda turvallisen tilan traumatyöskentelylle CST:n viitekehyksessä. \nPohjavaatimus: CS2-kurssi. \n\nKurssin toteutuksen tiedot: \nAjankohta: 29.10.-1.11.2026 \nOpettaja: Thomas Rasmussen (DK) Ph.D.\, MSC\, CST-D (tutustu Thomakseen täällä). \nOpetusavustajat: 1-4kpl. \nPaikka: FIMT Finnish Institute of Manual Therapy\, Töyrytie 1-5\, Tampere. \nOpetuskieli: englanti\, kurssi tulkataan suomeksi ja opetusavustajat puhuvat suomea. \nHinta: \nEarly Bird 880 € + alv 25\,5% (1104\,40 €). Tarjous voimassa 9.8.2026 asti.\nNormaali 990 € + alv 25\,5% (1242\,45 €) \nKurssihinta sisältää: opetuksen\, tulkkauksen suomeksi\, englanninkielisen opinto-oppaan sekä kahvin ja teen. Lounas on omakustanteinen. \nKoulutuksen järjestää Upledger Institute Finland. Koulutukseen liittyvissä sisällöllisissä ja käytännönjärjestelyihin liittyvissä asioissa ota yhteyttä info@upledger.fi. \n\nIlmoittaudu koulutukseen:\n1. Ostamalla koulutus FIMT-verkkokaupasta täältä\n\n2. Ilmoittautumalla info@upledger.fi \nTarjoamme kurssin suoraoston lisäksi myös osamaksuvaihtoehtoja – ota rohkeasti yhteyttä!\n\n 
URL:https://upledger.fi/koulutus/cst-trauma/
LOCATION:FIMT Koulutuskeskus\, Töyrytie 1-5\, Tampere\, 33530\, Finland
CATEGORIES:Erikoiskurssit
END:VEVENT
END:VCALENDAR